BEGIN:VCALENDAR
VERSION:2.0
PRODID:icalendar-ruby
CALSCALE:GREGORIAN
METHOD:PUBLISH
BEGIN:VEVENT
DTSTAMP:20260424T114044Z
UID:14-1025803@tlcsmithsburg.org
DTSTART:20261101T141500Z
DTEND:20261101T151500Z
CLASS:PUBLIC
CREATED:20260424T064200
DESCRIPTION:
LAST-MODIFIED:20260424T064200
LOCATION:
SUMMARY:Sunday School
URL;VALUE=URI:https://www.tlcsmithsburg.org/events/sunday-school--14/2026-1
 1-01
END:VEVENT
END:VCALENDAR
