BEGIN:VCALENDAR
VERSION:2.0
PRODID:icalendar-ruby
CALSCALE:GREGORIAN
METHOD:PUBLISH
BEGIN:VEVENT
DTSTAMP:20260424T095015Z
UID:14-1025172@tlcsmithsburg.org
DTSTART:20261025T131500Z
DTEND:20261025T141500Z
CLASS:PUBLIC
CREATED:20260423T211413
DESCRIPTION:
LAST-MODIFIED:20260423T211413
LOCATION:
SUMMARY:Sunday School
URL;VALUE=URI:https://www.tlcsmithsburg.org/events/sunday-school--14/2026-1
 0-25
END:VEVENT
END:VCALENDAR
