BEGIN:VCALENDAR
VERSION:2.0
PRODID:icalendar-ruby
CALSCALE:GREGORIAN
METHOD:PUBLISH
BEGIN:VEVENT
DTSTAMP:20260424T081437Z
UID:14-1025171@tlcsmithsburg.org
DTSTART:20261018T131500Z
DTEND:20261018T141500Z
CLASS:PUBLIC
CREATED:20260423T211413
DESCRIPTION:
LAST-MODIFIED:20260423T211413
LOCATION:
SUMMARY:Sunday School
URL;VALUE=URI:https://www.tlcsmithsburg.org/events/sunday-school--14/2026-1
 0-18
END:VEVENT
END:VCALENDAR
