BEGIN:VCALENDAR
VERSION:2.0
PRODID:icalendar-ruby
CALSCALE:GREGORIAN
METHOD:PUBLISH
BEGIN:VEVENT
DTSTAMP:20260422T040237Z
UID:14-1017608@tlcsmithsburg.org
DTSTART:20260927T131500Z
DTEND:20260927T141500Z
CLASS:PUBLIC
CREATED:20260421T194411
DESCRIPTION:
LAST-MODIFIED:20260421T194411
LOCATION:
SUMMARY:Sunday School
URL;VALUE=URI:https://www.tlcsmithsburg.org/events/sunday-school--14/2026-0
 9-27
END:VEVENT
END:VCALENDAR
