BEGIN:VCALENDAR
VERSION:2.0
PRODID:icalendar-ruby
CALSCALE:GREGORIAN
METHOD:PUBLISH
BEGIN:VEVENT
DTSTAMP:20260422T003203Z
UID:14-1017606@tlcsmithsburg.org
DTSTART:20260913T131500Z
DTEND:20260913T141500Z
CLASS:PUBLIC
CREATED:20260421T194411
DESCRIPTION:
LAST-MODIFIED:20260421T194411
LOCATION:
SUMMARY:Sunday School
URL;VALUE=URI:https://www.tlcsmithsburg.org/events/sunday-school--14/2026-0
 9-13
END:VEVENT
END:VCALENDAR
