BEGIN:VCALENDAR
VERSION:2.0
PRODID:icalendar-ruby
CALSCALE:GREGORIAN
METHOD:PUBLISH
BEGIN:VEVENT
DTSTAMP:20260421T224219Z
UID:14-1016975@tlcsmithsburg.org
DTSTART:20260906T131500Z
DTEND:20260906T141500Z
CLASS:PUBLIC
CREATED:20260421T170537
DESCRIPTION:
LAST-MODIFIED:20260421T170537
LOCATION:
SUMMARY:Sunday School
URL;VALUE=URI:https://www.tlcsmithsburg.org/events/sunday-school--14/2026-0
 9-06
END:VEVENT
END:VCALENDAR
