BEGIN:VCALENDAR
VERSION:2.0
PRODID:icalendar-ruby
CALSCALE:GREGORIAN
METHOD:PUBLISH
BEGIN:VEVENT
DTSTAMP:20260421T211213Z
UID:14-1016974@tlcsmithsburg.org
DTSTART:20260830T131500Z
DTEND:20260830T141500Z
CLASS:PUBLIC
CREATED:20260421T170537
DESCRIPTION:
LAST-MODIFIED:20260421T170537
LOCATION:
SUMMARY:Sunday School
URL;VALUE=URI:https://www.tlcsmithsburg.org/events/sunday-school--14/2026-0
 8-30
END:VEVENT
END:VCALENDAR
