BEGIN:VCALENDAR
VERSION:2.0
PRODID:icalendar-ruby
CALSCALE:GREGORIAN
METHOD:PUBLISH
BEGIN:VEVENT
DTSTAMP:20260421T193422Z
UID:14-1016343@tlcsmithsburg.org
DTSTART:20260823T131500Z
DTEND:20260823T141500Z
CLASS:PUBLIC
CREATED:20260421T142908
DESCRIPTION:
LAST-MODIFIED:20260421T142908
LOCATION:
SUMMARY:Sunday School
URL;VALUE=URI:https://www.tlcsmithsburg.org/events/sunday-school--14/2026-0
 8-23
END:VEVENT
END:VCALENDAR
