BEGIN:VCALENDAR
VERSION:2.0
PRODID:icalendar-ruby
CALSCALE:GREGORIAN
METHOD:PUBLISH
BEGIN:VEVENT
DTSTAMP:20260421T173523Z
UID:14-1015712@tlcsmithsburg.org
DTSTART:20260816T131500Z
DTEND:20260816T141500Z
CLASS:PUBLIC
CREATED:20260421T114959
DESCRIPTION:
LAST-MODIFIED:20260421T114959
LOCATION:
SUMMARY:Sunday School
URL;VALUE=URI:https://www.tlcsmithsburg.org/events/sunday-school--14/2026-0
 8-16
END:VEVENT
END:VCALENDAR
