BEGIN:VCALENDAR
VERSION:2.0
PRODID:icalendar-ruby
CALSCALE:GREGORIAN
METHOD:PUBLISH
BEGIN:VEVENT
DTSTAMP:20260421T142134Z
UID:14-1015080@tlcsmithsburg.org
DTSTART:20260802T131500Z
DTEND:20260802T141500Z
CLASS:PUBLIC
CREATED:20260421T091313
DESCRIPTION:
LAST-MODIFIED:20260421T091313
LOCATION:
SUMMARY:Sunday School
URL;VALUE=URI:https://www.tlcsmithsburg.org/events/sunday-school--14/2026-0
 8-02
END:VEVENT
END:VCALENDAR
