BEGIN:VCALENDAR
VERSION:2.0
PRODID:icalendar-ruby
CALSCALE:GREGORIAN
METHOD:PUBLISH
BEGIN:VEVENT
DTSTAMP:20260424T113600Z
UID:16-1026223@tlcsmithsburg.org
DTSTART:20261101T130000Z
DTEND:20261101T140000Z
CLASS:PUBLIC
CREATED:20260424T064200
DESCRIPTION:
LAST-MODIFIED:20260424T064200
LOCATION:
SUMMARY:Early Sunday Worship
URL;VALUE=URI:https://www.tlcsmithsburg.org/events/early-sunday-worship--16
 /2026-11-01
END:VEVENT
END:VCALENDAR
