BEGIN:VCALENDAR
VERSION:2.0
PRODID:icalendar-ruby
CALSCALE:GREGORIAN
METHOD:PUBLISH
BEGIN:VEVENT
DTSTAMP:20260424T094934Z
UID:16-1025592@tlcsmithsburg.org
DTSTART:20261025T120000Z
DTEND:20261025T130000Z
CLASS:PUBLIC
CREATED:20260423T211414
DESCRIPTION:
LAST-MODIFIED:20260423T211414
LOCATION:
SUMMARY:Early Sunday Worship
URL;VALUE=URI:https://www.tlcsmithsburg.org/events/early-sunday-worship--16
 /2026-10-25
END:VEVENT
END:VCALENDAR
