BEGIN:VCALENDAR
VERSION:2.0
PRODID:icalendar-ruby
CALSCALE:GREGORIAN
METHOD:PUBLISH
BEGIN:VEVENT
DTSTAMP:20260422T005100Z
UID:16-1018026@tlcsmithsburg.org
DTSTART:20260913T120000Z
DTEND:20260913T130000Z
CLASS:PUBLIC
CREATED:20260421T194412
DESCRIPTION:
LAST-MODIFIED:20260421T194412
LOCATION:
SUMMARY:Early Sunday Worship
URL;VALUE=URI:https://www.tlcsmithsburg.org/events/early-sunday-worship--16
 /2026-09-13
END:VEVENT
END:VCALENDAR
