BEGIN:VCALENDAR
VERSION:2.0
PRODID:icalendar-ruby
CALSCALE:GREGORIAN
METHOD:PUBLISH
BEGIN:VEVENT
DTSTAMP:20260421T230152Z
UID:16-1017395@tlcsmithsburg.org
DTSTART:20260906T120000Z
DTEND:20260906T130000Z
CLASS:PUBLIC
CREATED:20260421T170538
DESCRIPTION:
LAST-MODIFIED:20260421T170538
LOCATION:
SUMMARY:Early Sunday Worship
URL;VALUE=URI:https://www.tlcsmithsburg.org/events/early-sunday-worship--16
 /2026-09-06
END:VEVENT
END:VCALENDAR
