BEGIN:VCALENDAR
VERSION:2.0
PRODID:icalendar-ruby
CALSCALE:GREGORIAN
METHOD:PUBLISH
BEGIN:VEVENT
DTSTAMP:20260421T193735Z
UID:16-1016763@tlcsmithsburg.org
DTSTART:20260823T120000Z
DTEND:20260823T130000Z
CLASS:PUBLIC
CREATED:20260421T142908
DESCRIPTION:
LAST-MODIFIED:20260421T142908
LOCATION:
SUMMARY:Early Sunday Worship
URL;VALUE=URI:https://www.tlcsmithsburg.org/events/early-sunday-worship--16
 /2026-08-23
END:VEVENT
END:VCALENDAR
