BEGIN:VCALENDAR
VERSION:2.0
PRODID:icalendar-ruby
CALSCALE:GREGORIAN
METHOD:PUBLISH
BEGIN:VEVENT
DTSTAMP:20260421T161057Z
UID:16-1016131@tlcsmithsburg.org
DTSTART:20260809T120000Z
DTEND:20260809T130000Z
CLASS:PUBLIC
CREATED:20260421T115000
DESCRIPTION:
LAST-MODIFIED:20260421T115000
LOCATION:
SUMMARY:Early Sunday Worship
URL;VALUE=URI:https://www.tlcsmithsburg.org/events/early-sunday-worship--16
 /2026-08-09
END:VEVENT
END:VCALENDAR
